BEGIN:VCALENDAR
VERSION:2.0
PRODID:-//The Joy Prescription - ECPv6.8.3//NONSGML v1.0//EN
CALSCALE:GREGORIAN
METHOD:PUBLISH
X-WR-CALNAME:The Joy Prescription
X-ORIGINAL-URL:https://thejoyprescription.com
X-WR-CALDESC:Events for The Joy Prescription
REFRESH-INTERVAL;VALUE=DURATION:PT1H
X-Robots-Tag:noindex
X-PUBLISHED-TTL:PT1H
BEGIN:VTIMEZONE
TZID:America/New_York
BEGIN:DAYLIGHT
TZOFFSETFROM:-0500
TZOFFSETTO:-0400
TZNAME:EDT
DTSTART:20200308T070000
END:DAYLIGHT
BEGIN:STANDARD
TZOFFSETFROM:-0400
TZOFFSETTO:-0500
TZNAME:EST
DTSTART:20201101T060000
END:STANDARD
BEGIN:DAYLIGHT
TZOFFSETFROM:-0500
TZOFFSETTO:-0400
TZNAME:EDT
DTSTART:20210314T070000
END:DAYLIGHT
BEGIN:STANDARD
TZOFFSETFROM:-0400
TZOFFSETTO:-0500
TZNAME:EST
DTSTART:20211107T060000
END:STANDARD
END:VTIMEZONE
BEGIN:VEVENT
DTSTART;TZID=America/New_York:20210127T100000
DTEND;TZID=America/New_York:20210127T113000
DTSTAMP:20260420T165113
CREATED:20201028T172523Z
LAST-MODIFIED:20201028T173021Z
UID:3556-1611741600-1611747000@thejoyprescription.com
SUMMARY:What if it's not Depression?: A Functional Medicine Approach to Finding the Root Causes of Mood Changes - Part 2 of 4
DESCRIPTION:Are you ready to experience freedom from overwhelming stress\, anxiety\, depression and burnout?\nI invite you to join me on a spiritual journey and create your own Joy Prescription!\n \nWhat?: Live webinar led by Functional Medicine physician\, Cynthia Libert\, M.D. entitled: “What if it’s not Depression?: A Functional Medicine Approach to Finding the Root Causes of Mood Changes – Part 2 of 4″ \nWhen?: Wednesday\, January 27\, 2021\, from 10 am to 11:30 am. The live webinar will be archived in the Joy Prescription membership site for those who are unable to tune into the live session. \nHow do I enroll?: We don’t heal in isolation. You’re invited to join us in the Joy Prescription Community to access this webinar and future Joy Prescription webinars. I’ve condensed decades of medical education\, clinical experience\, and personal/spiritual growth into a unique\, on-line educational platform to help people uncover the reversible drivers of depression\, anxiety\, overwhelm\, fatigue\, and brain fog. Learn about a new paradigm in mental health care\, and how to create your own Joy Prescription\, including a healthy lifestyle blueprint. \nClick here to learn more about enrollment \n  \n 
URL:https://thejoyprescription.com/event/what-if-its-not-depression-a-functional-medicine-approach-to-finding-the-root-causes-of-mood-changes-part-2-of-4/
LOCATION:Webinar
CATEGORIES:Webinar
ATTACH;FMTTYPE=image/png:https://thejoyprescription.com/wp-content/uploads/2020/10/crop_mood-changes.png
END:VEVENT
BEGIN:VEVENT
DTSTART;TZID=America/New_York:20210113T100000
DTEND;TZID=America/New_York:20210113T113000
DTSTAMP:20260420T165113
CREATED:20201201T020120Z
LAST-MODIFIED:20201209T102123Z
UID:4067-1610532000-1610537400@thejoyprescription.com
SUMMARY:Soul Care
DESCRIPTION:What? \n			\n				\n				\n				\n				\n				Soul care facilitated by Dr. Libert via Zoom video call. \nSoul care groups offer a sacred space for healing\, especially for those struggling with stress\, anxiety and depression.  We intentionally set aside time to come together for contemplation\, for sharing our stories\, for deep\, empathetic listening\, for Bible study\, for silence\, listening and tuning in to the still small voice of God together.  \nAll are welcome. While our background and teachings are distinctly Christian\, we welcome ALL people seeking God into our community. All members must agree to and abide by our group covenant to participate in Soul Care groups. \nLearn more here. \n\n			\n				\n				\n				\n				\n				When? \n			\n				\n				\n				\n				\n				Wednesday\, January 13\, 2021\, 10 AM – 11:30 AM EST \n\n			\n				\n				\n				\n				\n				How do I enroll? \n\n			\n				\n				\n				\n				\n				We don’t heal in isolation. You’re invited to join us in the Joy Prescription Community to participate in Soul Care groups. \n			\n				Learn more about enrollment
URL:https://thejoyprescription.com/event/soul-care/
LOCATION:Zoom video call
CATEGORIES:Soul Care Virtual Retreats
ATTACH;FMTTYPE=image/jpeg:https://thejoyprescription.com/wp-content/uploads/2020/11/denys-nevozhai-z0nVqfrOqWA-unsplash-scaled.jpg
END:VEVENT
BEGIN:VEVENT
DTSTART;TZID=America/New_York:20201223T100000
DTEND;TZID=America/New_York:20201223T113000
DTSTAMP:20260420T165113
CREATED:20201027T081549Z
LAST-MODIFIED:20201108T121200Z
UID:3530-1608717600-1608723000@thejoyprescription.com
SUMMARY:What if it's not Depression?: A Functional Medicine Approach to Finding the Root Causes of Mood Changes - Part 1 of 4
DESCRIPTION:Are you ready to experience freedom from overwhelming stress\, anxiety\, depression and burnout?\nI invite you to join me on a spiritual journey and create your own Joy Prescription!\n \nWhat?: Live webinar led by Functional Medicine physician\, Cynthia Libert\, M.D. entitled: “What if it’s not Depression?: A Functional Medicine Approach to Finding the Root Causes of Mood Changes – Part 1 of 4″ \nWhen?: Wednesday\, December 23\, 2020\, from 10 am to 11:30 am. The live webinar will be archived in the Joy Prescription membership site for those who are unable to tune into the live session. \nHow do I enroll?: We don’t heal in isolation. You’re invited to join us in the Joy Prescription Community to access this webinar and future Joy Prescription webinars. I’ve condensed decades of medical education\, clinical experience\, and personal/spiritual growth into a unique\, on-line educational platform to help people uncover the reversible drivers of depression\, anxiety\, overwhelm\, fatigue\, and brain fog. Learn about a new paradigm in mental health care\, and how to create your own Joy Prescription\, including a healthy lifestyle blueprint. \nClick here to learn more about enrollment \n  \n 
URL:https://thejoyprescription.com/event/what-if-its-not-depression-a-functional-medicine-approach-to-finding-the-root-causes-of-mood-changes-part-1-of-4/
LOCATION:Webinar
CATEGORIES:Webinar
ATTACH;FMTTYPE=image/png:https://thejoyprescription.com/wp-content/uploads/2020/10/crop_mood-changes.png
END:VEVENT
BEGIN:VEVENT
DTSTART;TZID=America/New_York:20201125T100000
DTEND;TZID=America/New_York:20201125T113000
DTSTAMP:20260420T165113
CREATED:20201026T200237Z
LAST-MODIFIED:20201026T200237Z
UID:3517-1606298400-1606303800@thejoyprescription.com
SUMMARY:The Power of Gratitude: Opening Our Eyes to the Blessings All Around Us
DESCRIPTION:Are you ready to experience freedom from overwhelming stress\, anxiety\, depression and burnout?\nI invite you to join me on a spiritual journey and create your own Joy Prescription!\n \nWhat?: Live webinar led by Functional Medicine physician\, Cynthia Libert\, M.D. entitled: “The Power of Gratitude: Opening Our Eyes to the Blessings All Around Us” \nWhen?: Wednesday\, November 25\, 2020\, from 10 am to 11:30 am. The live webinar will be archived in the Joy Prescription membership site for those who are unable to tune into the live session. \nHow do I enroll?: We don’t heal in isolation. You’re invited to join us in the Joy Prescription Community to access this webinar and future Joy Prescription webinars. I’ve condensed decades of medical education\, clinical experience\, and personal/spiritual growth into a unique\, on-line educational platform to help people uncover the reversible drivers of depression\, anxiety\, overwhelm\, fatigue\, and brain fog. Learn about a new paradigm in mental health care\, and how to create your own Joy Prescription\, including a healthy lifestyle blueprint. \nClick here to learn more about enrollment \n  \n 
URL:https://thejoyprescription.com/event/the-power-of-gratitude-opening-our-eyes-to-the-blessings-all-around-us/
LOCATION:Webinar
CATEGORIES:Webinar
ATTACH;FMTTYPE=image/jpeg:https://thejoyprescription.com/wp-content/uploads/2020/10/shutterstock_158445599-scaled.jpg
END:VEVENT
BEGIN:VEVENT
DTSTART;TZID=America/New_York:20201028T100000
DTEND;TZID=America/New_York:20201028T113000
DTSTAMP:20260420T165113
CREATED:20201013T191021Z
LAST-MODIFIED:20201028T034357Z
UID:3491-1603879200-1603884600@thejoyprescription.com
SUMMARY:SAD: Lifestyle Medicine for Seasonal Affective Disorder
DESCRIPTION:Are you ready to experience freedom from overwhelming stress\, anxiety\, depression and burnout?\nI invite you to join me on a spiritual journey and create your own Joy Prescription!\n \nWhat?: Live webinar led by Functional Medicine physician\, Cynthia Libert\, M.D. entitled: “SAD: Lifestyle Medicine for Seasonal Affective Disorder” \nWhen?: Wednesday\, October 28\, 2020\, from 10 am to 11:30 am. The live webinar will be archived in the Joy Prescription membership site for those who are unable to tune into the live session. \nHow do I enroll?: We don’t heal in isolation. You’re invited to join us in the Joy Prescription Community to access this webinar and future Joy Prescription webinars. I’ve condensed decades of medical education\, clinical experience\, and personal/spiritual growth into a unique\, on-line educational platform to help people uncover the reversible drivers of depression\, anxiety\, overwhelm\, fatigue\, and brain fog. Learn about a new paradigm in mental health care\, and how to create your own Joy Prescription\, including a healthy lifestyle blueprint. \nClick here to learn more about enrollment \n 
URL:https://thejoyprescription.com/event/sad-lifestyle-medicine-for-seasonal-affective-disorder/
LOCATION:Webinar
CATEGORIES:Webinar
ATTACH;FMTTYPE=image/jpeg:https://thejoyprescription.com/wp-content/uploads/2020/10/shutterstock_669229222-scaled.jpg
END:VEVENT
END:VCALENDAR