BEGIN:VCALENDAR
VERSION:2.0
PRODID:-//The Joy Prescription - ECPv6.8.3//NONSGML v1.0//EN
CALSCALE:GREGORIAN
METHOD:PUBLISH
X-WR-CALNAME:The Joy Prescription
X-ORIGINAL-URL:https://thejoyprescription.com
X-WR-CALDESC:Events for The Joy Prescription
REFRESH-INTERVAL;VALUE=DURATION:PT1H
X-Robots-Tag:noindex
X-PUBLISHED-TTL:PT1H
BEGIN:VTIMEZONE
TZID:America/New_York
BEGIN:DAYLIGHT
TZOFFSETFROM:-0500
TZOFFSETTO:-0400
TZNAME:EDT
DTSTART:20230312T070000
END:DAYLIGHT
BEGIN:STANDARD
TZOFFSETFROM:-0400
TZOFFSETTO:-0500
TZNAME:EST
DTSTART:20231105T060000
END:STANDARD
END:VTIMEZONE
BEGIN:VEVENT
DTSTART;TZID=America/New_York:20230714T100000
DTEND;TZID=America/New_York:20230714T113000
DTSTAMP:20260421T222144
CREATED:20230602T220455Z
LAST-MODIFIED:20230602T221758Z
UID:50044-1689328800-1689334200@thejoyprescription.com
SUMMARY:Jumpstart Your Weight Loss
DESCRIPTION:Join Dr. Libert for a 90-minute\, interactive\, virtual workshop and learn how to shed unwanted body fat\, build lean muscle\, turn off chronic inflammation & more! \nHere’s what we’ll cover… \n  \n\nWhat is lifestyle medicine?\nA new model of healthcare\nFood as information and medicine\nInBody – body composition analysis interpretation\nIntro to Intermittent Fasting\nHow to Identify & Reverse Root Causes of Stubborn Body Fat\nOverview of Prescription Drugs Available as Adjuncts to Diet and Exercise for Treatment of Obesity\nSMARTER goal setting\nSetting yourself up for success\n\n  \nThis workshop is ideal for adults 18 years of age and older\, needing to lose unwanted body fat and/or gain lean muscle\, especially those with a chronic health concern including: \n  \n\nHigh Cholesterol\nHypertension\nInsulin Resistance\nType II Diabetes Mellitus\nHeart Disease\nOverweight/Obesity\nLoss of Muscle Mass (Sarcopenia)\nGastroesophageal Reflux Disease (GERD)\nPremenstrual syndrome (PMS)\nPolycystic ovary syndrome (PCOS)\n\nFor more details about this virtual workshop and the bonus gifts included\, click here. \nInvestment: $50 per person\, spouse/significant other may attend for no additional charge. Program fee is due at the time of scheduling to hold your spot. \nHow to Enroll:  View our booking page here. \nYou may also email our patient care coordinator\, Jan Vidmar\, at help@caringforthebody.org or call the office at (828) 490-1545 to reserve your seat. \nAll proceeds from the workshop go to support Women in Ministry & Medicine\, Inc. a  501(c)(3) Nonprofit Charity Organization.
URL:https://thejoyprescription.com/event/jumpstart-your-weight-loss/
LOCATION:Webinar
CATEGORIES:Workshop
END:VEVENT
END:VCALENDAR