BEGIN:VCALENDAR
VERSION:2.0
PRODID:-//The Joy Prescription - ECPv6.8.3//NONSGML v1.0//EN
CALSCALE:GREGORIAN
METHOD:PUBLISH
X-ORIGINAL-URL:https://thejoyprescription.com
X-WR-CALDESC:Events for The Joy Prescription
REFRESH-INTERVAL;VALUE=DURATION:PT1H
X-Robots-Tag:noindex
X-PUBLISHED-TTL:PT1H
BEGIN:VTIMEZONE
TZID:America/New_York
BEGIN:DAYLIGHT
TZOFFSETFROM:-0500
TZOFFSETTO:-0400
TZNAME:EDT
DTSTART:20220313T070000
END:DAYLIGHT
BEGIN:STANDARD
TZOFFSETFROM:-0400
TZOFFSETTO:-0500
TZNAME:EST
DTSTART:20221106T060000
END:STANDARD
END:VTIMEZONE
BEGIN:VEVENT
DTSTART;TZID=America/New_York:20220819T103000
DTEND;TZID=America/New_York:20220819T120000
DTSTAMP:20260421T165651
CREATED:20220624T124748Z
LAST-MODIFIED:20220624T124755Z
UID:26353-1660905000-1660910400@thejoyprescription.com
SUMMARY:Jumpstart Your Weight Loss Workshop
DESCRIPTION:What? \n			\n				\n				\n				\n				\n				Join Dr. Libert for a 90-minute\, interactive\, in-person workshop and learn how to shed unwanted body fat\, build lean muscle\, turn off chronic inflammation & more! \nHere’s what we’ll cover… \n– What is lifestyle medicine?– A new model of healthcare– Food as information and medicine– InBody – body composition analysis interpretation– Intro to Intermittent Fasting– How to Identify & Reverse Root Causes of Stubborn Body Fat– SMARTER goal setting– Setting yourself up for success \nAt the end of the workshop\, Dr. Libert will share a brief introduction and invitation to join FirstLine Therapy®\, our 12-week Therapeutic Lifestyle Change Program. \nHere’s what you’ll receive during the workshop… \n– An InBody – body composition analysis. Your report will show key components of your health:    – Skeletal Muscle Mass    – Percent Body Fat    – Basal Metabolic Rate    – 21-Day Real Food\, Real Quick Recipe Program \n			\n				\n				\n				\n				\n				Who? \n			\n				\n				\n				\n				\n				This workshop is ideal for adults 18 years of age and older\, needing to lose unwanted body fat and/or gain lean muscle\, especially those with a chronic health concern including: \n– High Cholesterol– Hypertension– Insulin Resistance– Type II Diabetes Mellitus– Heart Disease– Overweight/Obesity– Loss of Muscle Mass (Sarcopenia)– Gastroesophageal Reflux Disease (GERD)– Premenstrual syndrome (PMS)– Polycystic ovary syndrome (PCOS) \n			\n				\n				\n				\n				\n				Why? \n			\n				\n				\n				\n				\n				Join us to finally get to the root causes of overweight/obesity\, so that you can reverse your risk factors for chronic disease\, improve your energy\, feel better and live your life to the fullest! \n			\n				\n				\n				\n				\n				When? \n			\n				\n				\n				\n				\n				Friday\, August 19\, 2022\, 10:30 AM – 12 PM EST \n\n			\n				\n				\n				\n				\n				Where? \n			\n				\n				\n				\n				\n				Caring for the Body\, PLLC1998 Hendersonville Rd\, Suite 24\, Asheville\, NC 28803 \n\n\n			\n				\n				\n				\n				\n				How do I enroll? \n\n			\n				\n				\n				\n				\n				Space is limited to 6 participants. Tuition is due at the time of scheduling to hold your spot. \nTuition: $225 per person\, 50% discount for spouse/significant other. \nEmail our patient care coordinator\, Jan Vidmar\, at help@caringforthebody.org or call the office at (828) 490-1545 to reserve your seat.
URL:https://thejoyprescription.com/event/jumpstart-your-weight-loss-workshop-2/
LOCATION:Caring for the Body\, PLLC\, 1998 Hendersonville Rd\, Suite 24\, Asheville\, NC\, 28748\, United States
CATEGORIES:Workshop
ATTACH;FMTTYPE=image/png:https://thejoyprescription.com/wp-content/uploads/2022/06/2-1-e1656074836916.png
END:VEVENT
END:VCALENDAR