BEGIN:VCALENDAR
VERSION:2.0
PRODID:-//The Joy Prescription - ECPv6.8.3//NONSGML v1.0//EN
CALSCALE:GREGORIAN
METHOD:PUBLISH
X-ORIGINAL-URL:https://thejoyprescription.com
X-WR-CALDESC:Events for The Joy Prescription
REFRESH-INTERVAL;VALUE=DURATION:PT1H
X-Robots-Tag:noindex
X-PUBLISHED-TTL:PT1H
BEGIN:VTIMEZONE
TZID:America/New_York
BEGIN:DAYLIGHT
TZOFFSETFROM:-0500
TZOFFSETTO:-0400
TZNAME:EDT
DTSTART:20220313T070000
END:DAYLIGHT
BEGIN:STANDARD
TZOFFSETFROM:-0400
TZOFFSETTO:-0500
TZNAME:EST
DTSTART:20221106T060000
END:STANDARD
END:VTIMEZONE
BEGIN:VEVENT
DTSTART;TZID=America/New_York:20220916T103000
DTEND;TZID=America/New_York:20220916T120000
DTSTAMP:20260421T150501
CREATED:20220624T125151Z
LAST-MODIFIED:20220624T125157Z
UID:26357-1663324200-1663329600@thejoyprescription.com
SUMMARY:Jumpstart Your Weight Loss Workshop
DESCRIPTION:What? \n			\n				\n				\n				\n				\n				Join Dr. Libert for a 90-minute\, interactive\, in-person workshop and learn how to shed unwanted body fat\, build lean muscle\, turn off chronic inflammation & more! \nHere’s what we’ll cover… \n– What is lifestyle medicine?– A new model of healthcare– Food as information and medicine– InBody – body composition analysis interpretation– Intro to Intermittent Fasting– How to Identify & Reverse Root Causes of Stubborn Body Fat– SMARTER goal setting– Setting yourself up for success \nAt the end of the workshop\, Dr. Libert will share a brief introduction and invitation to join FirstLine Therapy®\, our 12-week Therapeutic Lifestyle Change Program. \nHere’s what you’ll receive during the workshop… \n– An InBody – body composition analysis. Your report will show key components of your health:    – Skeletal Muscle Mass    – Percent Body Fat    – Basal Metabolic Rate    – 21-Day Real Food\, Real Quick Recipe Program \n			\n				\n				\n				\n				\n				Who? \n			\n				\n				\n				\n				\n				This workshop is ideal for adults 18 years of age and older\, needing to lose unwanted body fat and/or gain lean muscle\, especially those with a chronic health concern including: \n– High Cholesterol– Hypertension– Insulin Resistance– Type II Diabetes Mellitus– Heart Disease– Overweight/Obesity– Loss of Muscle Mass (Sarcopenia)– Gastroesophageal Reflux Disease (GERD)– Premenstrual syndrome (PMS)– Polycystic ovary syndrome (PCOS) \n			\n				\n				\n				\n				\n				Why? \n			\n				\n				\n				\n				\n				Join us to finally get to the root causes of overweight/obesity\, so that you can reverse your risk factors for chronic disease\, improve your energy\, feel better and live your life to the fullest! \n			\n				\n				\n				\n				\n				When? \n			\n				\n				\n				\n				\n				Friday\, September 16\, 2022\, 10:30 AM – 12 PM EST \n\n			\n				\n				\n				\n				\n				Where? \n			\n				\n				\n				\n				\n				Caring for the Body\, PLLC1998 Hendersonville Rd\, Suite 24\, Asheville\, NC 28803 \n\n\n			\n				\n				\n				\n				\n				How do I enroll? \n\n			\n				\n				\n				\n				\n				Space is limited to 6 participants. Tuition is due at the time of scheduling to hold your spot. \nTuition: $225 per person\, 50% discount for spouse/significant other. \nEmail our patient care coordinator\, Jan Vidmar\, at help@caringforthebody.org or call the office at (828) 490-1545 to reserve your seat.
URL:https://thejoyprescription.com/event/jumpstart-your-weight-loss-workshop-3/
LOCATION:Caring for the Body\, PLLC\, 1998 Hendersonville Rd\, Suite 24\, Asheville\, NC\, 28748\, United States
CATEGORIES:Workshop
ATTACH;FMTTYPE=image/png:https://thejoyprescription.com/wp-content/uploads/2022/06/3-e1656075091810.png
END:VEVENT
BEGIN:VEVENT
DTSTART;TZID=America/New_York:20220923T090000
DTEND;TZID=America/New_York:20220923T120000
DTSTAMP:20260421T150501
CREATED:20220622T192130Z
LAST-MODIFIED:20220624T183550Z
UID:26310-1663923600-1663934400@thejoyprescription.com
SUMMARY:Joy Prescription Workshop: Seven Spiritual Principles to Create a Life of Vibrant Health
DESCRIPTION:What? \n			\n				\n				\n				\n				\n				Join Dr. Libert for an intimate\, 3-hour\, in-person\, workshop entitled: “The Joy Prescription: Seven Spiritual Principles for Creating a Life of Vibrant Health.” This interactive workshop offers participants a unique opportunity to explore the intersection of lifestyle medicine\, brain health and Christian spirituality. \nWe’ll emphasize practical strategies to prevent and reverse chronic disease\, build stress resilience and create vibrant health. \nHere’s what we’ll cover… \nThe Seven Principles of True Healthcare \nPrinciple #1 – The body & mind are intricately interwoven \n– A holistic model of brain health– The connection between the brain and whole-body health– A systems biology approach to medicine \nPrinciple #2 – The body is the temple of the living God \nPrinciple #3 – Lifestyle medicine = Health stewardship \n– What’s impairing your healing?– Unlocking your internal pharmacy– Finding your rhythms– Stress & the gut-brain axis \nPrinciple #4 – We heal when we are connected to our power source \n– Squashing brain ANTs– Upgrading your operating system \nPrinciple #5 – Empty wells drain your vitality \n– Early warning signs of chronic illness – clues from the autonomic nervous system– How to build physiological stress resilience \nPrinciple #6 – Community is a lifeline \n– Health benefits of having social support– Tips to increase your support network \nPrinciple #7 – Pursuing the SOURCE of true joy brings health and wholeness \n			\n				\n				\n				\n				\n				Who? \n			\n				\n				\n				\n				\n				This workshop is open to the public; however\, space is limited\, and pre-registration is required.  The workshop is ideal for people of faith (or those seeking a spiritual connection) who are interested in natural healthcare options for chronic medical problems. \nJoin us to learn how to heal YOUR brain and body! \n			\n				\n				\n				\n				\n				Why? \n			\n				\n				\n				\n				\n				Dr. Libert founded the Joy Prescription community to inspire a paradigm shift in healthcare. The answer to our chronic disease epidemic can be found in biblical wisdom and lifestyle medicine. Our mission is to equip the body of Christ with the education\, tools\, and support needed to recover their health for the advancement of the Kingdom and the glory of God. \n			\n				\n				\n				\n				\n				When? \n			\n				\n				\n				\n				\n				Friday\, September 23\, 2022\, 9 AM – 12 PM EST \n\n			\n				\n				\n				\n				\n				Where? \n			\n				\n				\n				\n				\n				Caring for the Body\, PLLC1998 Hendersonville Rd\, Suite 24\, Asheville\, NC 28803 \n\n\n			\n				\n				\n				\n				\n				How do I enroll? \n\n			\n				\n				\n				\n				\n				Space is limited to 6 participants. Tuition is due at the time of scheduling to hold your spot.  \nTuition: $125 per person.  \nEmail our patient care coordinator\, Jan Vidmar\, at help@caringforthebody.org or call the office at (828) 490-1545 to reserve your seat. 
URL:https://thejoyprescription.com/event/joy-prescription-workshop-seven-spiritual-principles-to-create-a-life-of-vibrant-health/
LOCATION:Caring for the Body\, PLLC\, 1998 Hendersonville Rd\, Suite 24\, Asheville\, NC\, 28748\, United States
CATEGORIES:Workshop
ATTACH;FMTTYPE=image/png:https://thejoyprescription.com/wp-content/uploads/2022/06/1-2-e1656095713576.png
END:VEVENT
END:VCALENDAR