BEGIN:VCALENDAR
VERSION:2.0
PRODID:-//The Joy Prescription - ECPv6.8.3//NONSGML v1.0//EN
CALSCALE:GREGORIAN
METHOD:PUBLISH
X-ORIGINAL-URL:https://thejoyprescription.com
X-WR-CALDESC:Events for The Joy Prescription
REFRESH-INTERVAL;VALUE=DURATION:PT1H
X-Robots-Tag:noindex
X-PUBLISHED-TTL:PT1H
BEGIN:VTIMEZONE
TZID:America/New_York
BEGIN:DAYLIGHT
TZOFFSETFROM:-0500
TZOFFSETTO:-0400
TZNAME:EDT
DTSTART:20210314T070000
END:DAYLIGHT
BEGIN:STANDARD
TZOFFSETFROM:-0400
TZOFFSETTO:-0500
TZNAME:EST
DTSTART:20211107T060000
END:STANDARD
END:VTIMEZONE
BEGIN:VEVENT
DTSTART;TZID=America/New_York:20210908T100000
DTEND;TZID=America/New_York:20210908T113000
DTSTAMP:20260425T112948
CREATED:20201222T064216Z
LAST-MODIFIED:20210730T005008Z
UID:4182-1631095200-1631100600@thejoyprescription.com
SUMMARY:Soul Care
DESCRIPTION:What? \n			\n				\n				\n				\n				\n				Soul care facilitated by Dr. Libert via Zoom video call. \nSoul care groups offer a sacred space for healing\, especially for those struggling with a chronic health concern.  We intentionally set aside time to come together for contemplation\, for sharing our stories\, for deep\, empathetic listening\, for Bible study\, for silence\, listening and tuning in to the still small voice of God together. \nAll are welcome. While our background and teachings are distinctly Christian\, we welcome ALL people seeking God into our community. All members must agree to and abide by our group covenant to participate in Soul Care groups. \nLearn more here. \n\n			\n				\n				\n				\n				\n				When? \n			\n				\n				\n				\n				\n				Wednesday\, September 8 \, 2021\, 10 AM – 11:30 AM EST \n\n			\n				\n				\n				\n				\n				How do I enroll? \n\n			\n				\n				\n				\n				\n				We don’t heal in isolation. You’re invited to join us in the Joy Prescription Community to participate in Soul Care groups. \n			\n				Learn more about enrollment
URL:https://thejoyprescription.com/event/soul-care-9/
LOCATION:Zoom video call
CATEGORIES:Soul Care Virtual Retreats
ATTACH;FMTTYPE=image/jpeg:https://thejoyprescription.com/wp-content/uploads/2018/11/shutterstock_178311611-trust.jpg
END:VEVENT
END:VCALENDAR