BEGIN:VCALENDAR
VERSION:2.0
PRODID:-//The Joy Prescription - ECPv6.8.3//NONSGML v1.0//EN
CALSCALE:GREGORIAN
METHOD:PUBLISH
X-ORIGINAL-URL:https://thejoyprescription.com
X-WR-CALDESC:Events for The Joy Prescription
REFRESH-INTERVAL;VALUE=DURATION:PT1H
X-Robots-Tag:noindex
X-PUBLISHED-TTL:PT1H
BEGIN:VTIMEZONE
TZID:America/New_York
BEGIN:DAYLIGHT
TZOFFSETFROM:-0500
TZOFFSETTO:-0400
TZNAME:EDT
DTSTART:20230312T070000
END:DAYLIGHT
BEGIN:STANDARD
TZOFFSETFROM:-0400
TZOFFSETTO:-0500
TZNAME:EST
DTSTART:20231105T060000
END:STANDARD
END:VTIMEZONE
BEGIN:VEVENT
DTSTART;TZID=America/New_York:20230913T123000
DTEND;TZID=America/New_York:20230913T133000
DTSTAMP:20260422T170749
CREATED:20230823T165810Z
LAST-MODIFIED:20230824T142522Z
UID:50115-1694608200-1694611800@thejoyprescription.com
SUMMARY:The 5 M’s to Better Health Results with Less Time & Less Stress!
DESCRIPTION:The 5 M’s to Better Health Results with Less Time & Stress  \n…is an interactive\, holistic health workshop designed with busy\, but health-conscious\, professional women & moms in mind!  \nWe know firsthand how challenging it is to wear many hats and hold space for your health. That’s why we want to equip you with actionable tools\, tips & strategies to achieve the health routine and results you want\, with less time & less stress!  \nDoes this sound like you? \n☉ “I prioritize my work\, family\, and more\, but can’t seem to gain momentum or consistency around          my personal health.” \n☉ “I’m driven & motivated\, but I lack discipline & structure when it comes to my health goals.” \n☉ “I do really well for a few weeks\, then one thing leads to another\, and I fall off track\, back to                  where I started\, if not farther behind.” \n☉ “I’ve got a full plate\, between my career\, family\, and other duties. I struggle with balancing all of it        and maintaining my health habits.” \n☉ “My time is limited & I don’t have hours to devote to the gym or cooking. I need to implement a            routine that is sustainable AND gets me results!” \n \nIf you’re ready to break through barriers and create momentum around your personal health goals\, then it’s time to take action. \nJoin holistic health practitioner (and mom!)\, Allison Occkial\, for a 60-minute live wellness workshop that will cover: \n☉ The 5 M’s to Better Health Results \n☉ Strategies for nutritious eating\, shedding bad habits\, optimizing movement & exercise and more!  \n☉ The biggest mistakes people make that lead to “falling off” \n☉ Live Q & A + a mini-group coaching session  \n \nPlus\, you’ll have access to the video replay + slides afterwards! \nDETAILS:  \nWhen: Wednesday\, Sept 13th\, 12:30pm-1:30pm \nWhere: Live on Zoom (replay will be available)  \nInvestment:  $39  \nWorkshop fee is due at the time of scheduling to hold your spot.  \nAll proceeds from the workshop go to support Women in Ministry & Medicine\, Inc. a  501(c)(3) Nonprofit Charity Organization.  \n*BONUS* Early Bird Special \nRegister by September 1st and receive a bonus gift – a 2-week Menu Plan (delivered to your inbox just following the workshop.) \nRegistration \nClick HERE to reserve your spot!\nHave questions or need assistance with registration? Email us at thejoyprescription@gmail.com. \n  \n 
URL:https://thejoyprescription.com/event/5-ms-workshop/
LOCATION:Video conference call
CATEGORIES:Wellness Workshop
ATTACH;FMTTYPE=image/png:https://thejoyprescription.com/wp-content/uploads/2023/08/5-Ms-event-graphic-1.png
END:VEVENT
BEGIN:VEVENT
DTSTART;TZID=America/New_York:20230915T120000
DTEND;TZID=America/New_York:20230915T133000
DTSTAMP:20260422T170749
CREATED:20230720T130458Z
LAST-MODIFIED:20230823T161716Z
UID:50079-1694779200-1694784600@thejoyprescription.com
SUMMARY:Soul Care for Women in Ministry & Medicine
DESCRIPTION:Are you desiring connection\, community\, and refreshment for your soul?\nAs a woman in ministry or medicine you share your gifts to serve God and others. We are here to help YOU cultivate vibrant health\, so that you can flourish and live with great purpose\, joy and fruitfulness for the Kingdom of God. \nWho?\nThis workshop is designed for women in the following fields: \nVocational Ministry – Pastoral Staff\, Missionaries and Spiritual DirectorsLay LeadersBusiness Leaders & EntrepreneursNon-Profit LeadersPhysiciansNurse Practitioners\, Physician Assistants and NursesOther Medical ProfessionalsMental Health ProfessionalsLife & Health CoachesAspiring Leaders \nWhat?\nSmall-group soul care workshop tailored to the needs of the participants\, covering the following topics: \n\nHealing past traumas and patterns\nIntegrating work-life-family dynamics\nGrowing in resilience & healing from burnout\nPrioritizing the sacred rhythms of rest\nTending to your physical health with Biblical wisdom and lifestyle medicine\n\nWhy?\n“Beloved\, I wish above all things that thou mayest prosper and be in health\, even as thy soul prospereth.” ~3 John 2:2 KJV\nOur goal is to equip one another with the knowledge\, practical tools and loving\, grace-filled support we need to flourish in all spheres of our lives and callings. \nInvestment$25 per person\nAll proceeds from the workshop go to support Women in Ministry & Medicine\, Inc. a 501(c)(3) Nonprofit Charity Organization. \nCLICK HERE TO REGISTER
URL:https://thejoyprescription.com/event/soul-care-for-women-in-ministry-medicine-3/
LOCATION:Video conference call
CATEGORIES:Workshop
ATTACH;FMTTYPE=image/png:https://thejoyprescription.com/wp-content/uploads/2023/07/3.png
END:VEVENT
END:VCALENDAR