BEGIN:VCALENDAR
VERSION:2.0
PRODID:-//The Joy Prescription - ECPv6.8.3//NONSGML v1.0//EN
CALSCALE:GREGORIAN
METHOD:PUBLISH
X-ORIGINAL-URL:https://thejoyprescription.com
X-WR-CALDESC:Events for The Joy Prescription
REFRESH-INTERVAL;VALUE=DURATION:PT1H
X-Robots-Tag:noindex
X-PUBLISHED-TTL:PT1H
BEGIN:VTIMEZONE
TZID:America/New_York
BEGIN:DAYLIGHT
TZOFFSETFROM:-0500
TZOFFSETTO:-0400
TZNAME:EDT
DTSTART:20230312T070000
END:DAYLIGHT
BEGIN:STANDARD
TZOFFSETFROM:-0400
TZOFFSETTO:-0500
TZNAME:EST
DTSTART:20231105T060000
END:STANDARD
END:VTIMEZONE
BEGIN:VEVENT
DTSTART;TZID=America/New_York:20231020T120000
DTEND;TZID=America/New_York:20231020T133000
DTSTAMP:20260422T150019
CREATED:20230720T130814Z
LAST-MODIFIED:20230920T200353Z
UID:50082-1697803200-1697808600@thejoyprescription.com
SUMMARY:Soul Care for Women in Ministry & Medicine: Choosing JOY When Life is Hard
DESCRIPTION:October brings a renewed focus on mindset\, this time emphasizing the power of choosing joy. As women in demanding fields\, we often encounter difficulties that test our resilience. Through heartfelt conversations\, we’ll explore strategies for embracing joy even in the face of adversity. This retreat is a chance to learn from one another’s experiences and uncover ways to infuse your life with positivity\, enhancing your well-being as you continue your journey in ministry and/or healthcare. \nOur goal is to equip one another with the knowledge\, practical tools and loving\, grace-filled support we need to flourish in all spheres of our lives and callings. \nInvestment$25 per person\nAll proceeds from the workshop go to support Women in Ministry & Medicine\, Inc. a 501(c)(3) Nonprofit Charity Organization. \nCLICK HERE TO REGISTER
URL:https://thejoyprescription.com/event/soul-care-for-women-in-ministry-medicine-choosing-joy-when-life-is-hard/
LOCATION:Video conference call
CATEGORIES:Workshop
ATTACH;FMTTYPE=image/png:https://thejoyprescription.com/wp-content/uploads/2023/07/2-1.png
END:VEVENT
END:VCALENDAR